BEGIN:VCALENDAR
VERSION:2.0
PRODID:-//United Methodist Main - ECPv6.8.3//NONSGML v1.0//EN
CALSCALE:GREGORIAN
METHOD:PUBLISH
X-ORIGINAL-URL:https://umfmtc.org
X-WR-CALDESC:Events for United Methodist Main
REFRESH-INTERVAL;VALUE=DURATION:PT1H
X-Robots-Tag:noindex
X-PUBLISHED-TTL:PT1H
BEGIN:VTIMEZONE
TZID:UTC
BEGIN:STANDARD
TZOFFSETFROM:+0000
TZOFFSETTO:+0000
TZNAME:UTC
DTSTART:20180101T000000
END:STANDARD
END:VTIMEZONE
BEGIN:VEVENT
DTSTART;TZID=UTC:20180206T090000
DTEND;TZID=UTC:20180206T120000
DTSTAMP:20260424T215429
CREATED:20171208T152556Z
LAST-MODIFIED:20180104T153647Z
UID:996-1517907600-1517918400@umfmtc.org
SUMMARY:Clergy Tax Seminar-Memphis Conference
DESCRIPTION:  \n  \n 
URL:https://umfmtc.org/event/clergy-tax-seminar-memphis-conference/
LOCATION:Memphis Conference Office\, 24 Corporate Blvd.\, Jackson\, TN\, 38305\, United States
ATTACH;FMTTYPE=image/jpeg:https://umfmtc.org/wp-content/uploads/2017/12/Memphis-Conference-Clergy-Tax-Seminar-2018-1.jpg
ORGANIZER;CN="United Methodist Foundation for the Memphis and Tennessee Conferences":MAILTO:sara.finger@umfmtc.org
END:VEVENT
END:VCALENDAR